BEGIN:VCALENDAR
VERSION:2.0
PRODID:-//Amador Wine Country - ECPv6.15.20//NONSGML v1.0//EN
CALSCALE:GREGORIAN
METHOD:PUBLISH
X-ORIGINAL-URL:https://amadorwine.com
X-WR-CALDESC:Events for Amador Wine Country
REFRESH-INTERVAL;VALUE=DURATION:PT1H
X-Robots-Tag:noindex
X-PUBLISHED-TTL:PT1H
BEGIN:VTIMEZONE
TZID:America/Los_Angeles
BEGIN:DAYLIGHT
TZOFFSETFROM:-0800
TZOFFSETTO:-0700
TZNAME:PDT
DTSTART:20250309T100000
END:DAYLIGHT
BEGIN:STANDARD
TZOFFSETFROM:-0700
TZOFFSETTO:-0800
TZNAME:PST
DTSTART:20251102T090000
END:STANDARD
BEGIN:DAYLIGHT
TZOFFSETFROM:-0800
TZOFFSETTO:-0700
TZNAME:PDT
DTSTART:20260308T100000
END:DAYLIGHT
BEGIN:STANDARD
TZOFFSETFROM:-0700
TZOFFSETTO:-0800
TZNAME:PST
DTSTART:20261101T090000
END:STANDARD
BEGIN:DAYLIGHT
TZOFFSETFROM:-0800
TZOFFSETTO:-0700
TZNAME:PDT
DTSTART:20270314T100000
END:DAYLIGHT
BEGIN:STANDARD
TZOFFSETFROM:-0700
TZOFFSETTO:-0800
TZNAME:PST
DTSTART:20271107T090000
END:STANDARD
END:VTIMEZONE
BEGIN:VEVENT
DTSTART;TZID=America/Los_Angeles:20261030T110000
DTEND;TZID=America/Los_Angeles:20261030T160000
DTSTAMP:20260419T073231
CREATED:20260203T175325Z
LAST-MODIFIED:20260203T175325Z
UID:10000971-1793358000-1793376000@amadorwine.com
SUMMARY:Live Music Friday at Rombauer Vineyards
DESCRIPTION:Celebrate harvest season with the soulful tunes of CJ Washington! Indulge in Armando’s Tacos—a perfect match for our bold Zinfandel—while experiencing the energy of Harvest all around you. Browse unique local vendors and experience the magic of fall in the Foothills.
URL:https://amadorwine.com/event/live-music-friday-at-rombauer-vineyards-8/
LOCATION:Rombauer Vineyards\, 12225 Steiner Rd.\, Plymouth\, CA\, 95669\, United States
CATEGORIES:Food Pairing,Food Truck,Live Music,Vendors
ATTACH;FMTTYPE=image/jpeg:https://amadorwine.com/wp-content/uploads/2026/01/LMFOctober-42caaed99c6d7e76f77a008d1a9adb57.jpg
END:VEVENT
BEGIN:VEVENT
DTSTART;TZID=America/Los_Angeles:20261118T110000
DTEND;TZID=America/Los_Angeles:20261118T140000
DTSTAMP:20260419T073231
CREATED:20260203T175734Z
LAST-MODIFIED:20260203T175734Z
UID:10000972-1794999600-1795010400@amadorwine.com
SUMMARY:Rombauer Vineyards Wine Wednesday - Barrel Stave Painting
DESCRIPTION:Unleash your inner artist with a creative and relaxing Barrel Stave Painting Class\, where you’ll transform a piece of winery history into a personal masterpiece. You will be guided through the painting process by a local artist. Whether you’re a seasoned painter or picking up a brush for the first time\, you’ll learn techniques to create a beautiful\, rustic piece of décor.
URL:https://amadorwine.com/event/rombauer-vineyards-wine-wednesday-barrel-stave-painting/
LOCATION:Rombauer Vineyards\, 12225 Steiner Rd.\, Plymouth\, CA\, 95669\, United States
CATEGORIES:Craft Class,Food Pairing
ATTACH;FMTTYPE=image/jpeg:https://amadorwine.com/wp-content/uploads/2026/01/BarrelStave-6d32e978a45d2cca8d1c94ed2200dfd8.jpg
END:VEVENT
BEGIN:VEVENT
DTSTART;TZID=America/Los_Angeles:20261120T110000
DTEND;TZID=America/Los_Angeles:20261120T160000
DTSTAMP:20260419T073231
CREATED:20260203T180238Z
LAST-MODIFIED:20260203T180238Z
UID:10000973-1795172400-1795190400@amadorwine.com
SUMMARY:Live Music Friday at Rombauer Vineyards
DESCRIPTION:With fun live music and delicious food trucks\, we’re kicking the weekend off early in Plymouth. Call your friends and join us! \nCJ Washington returns for a cozy November afternoon! Enjoy delicious bites from our featured food truck paired with your favorite Rombauer wines\, and browse unique local vendors.
URL:https://amadorwine.com/event/live-music-friday-at-rombauer-vineyards-9/
LOCATION:Rombauer Vineyards\, 12225 Steiner Rd.\, Plymouth\, CA\, 95669\, United States
CATEGORIES:Food Pairing,Food Truck,Live Music,Vendors
ATTACH;FMTTYPE=image/jpeg:https://amadorwine.com/wp-content/uploads/2026/01/LMFNov-87a156c91309f759a497c33c33cd8dee.jpg
END:VEVENT
BEGIN:VEVENT
DTSTART;TZID=America/Los_Angeles:20261216T110000
DTEND;TZID=America/Los_Angeles:20261216T140000
DTSTAMP:20260419T073231
CREATED:20260203T180618Z
LAST-MODIFIED:20260203T180618Z
UID:10000974-1797418800-1797429600@amadorwine.com
SUMMARY:Rombauer Vineyards Wine Wednesday - Wreath Making
DESCRIPTION:Join us for a fun\, hands-on wreath-making class at Rombauer Sierra Foothills. You will learn how to create a beautiful green wreath that you can take home and enjoy this holiday season. Lunch and Rombauer wines will be served as well! \nWednesday\, December 16th\nRombauer Vineyards\, Sierra Foothills
URL:https://amadorwine.com/event/rombauer-vineyards-wine-wednesday-wreath-making-2/
LOCATION:Rombauer Vineyards\, 12225 Steiner Rd.\, Plymouth\, CA\, 95669\, United States
CATEGORIES:Craft Class,Food Pairing
ATTACH;FMTTYPE=image/jpeg:https://amadorwine.com/wp-content/uploads/2026/01/WreathMaking-f53510b77e777b46798839a81ea31e27.jpg
END:VEVENT
BEGIN:VEVENT
DTSTART;TZID=America/Los_Angeles:20261218T110000
DTEND;TZID=America/Los_Angeles:20261218T160000
DTSTAMP:20260419T073231
CREATED:20260203T181120Z
LAST-MODIFIED:20260203T181120Z
UID:10000975-1797591600-1797609600@amadorwine.com
SUMMARY:Live Music Friday at Rombauer Vineyards
DESCRIPTION:Close out the year with the Jason Weeks Duo\, bringing festive cheer to the vineyard! Enjoy tunes from this delightful duo and delicious bites from our featured food truck as you sip on your favorite Rombauer wines. Browse unique local vendors and celebrate the holiday season with us!
URL:https://amadorwine.com/event/live-music-friday-at-rombauer-vineyards-10/
LOCATION:Rombauer Vineyards\, 12225 Steiner Rd.\, Plymouth\, CA\, 95669\, United States
CATEGORIES:Food Pairing,Food Truck,Live Music,Vendors
ATTACH;FMTTYPE=image/jpeg:https://amadorwine.com/wp-content/uploads/2026/01/JasonWeeks2LMF-21f0900b1972109f7735a799fc051a00.jpg
END:VEVENT
END:VCALENDAR