BEGIN:VCALENDAR
VERSION:2.0
PRODID:-//Amador Wine Country - ECPv6.15.20//NONSGML v1.0//EN
CALSCALE:GREGORIAN
METHOD:PUBLISH
X-WR-CALNAME:Amador Wine Country
X-ORIGINAL-URL:https://amadorwine.com
X-WR-CALDESC:Events for Amador Wine Country
REFRESH-INTERVAL;VALUE=DURATION:PT1H
X-Robots-Tag:noindex
X-PUBLISHED-TTL:PT1H
BEGIN:VTIMEZONE
TZID:America/Los_Angeles
BEGIN:DAYLIGHT
TZOFFSETFROM:-0800
TZOFFSETTO:-0700
TZNAME:PDT
DTSTART:20250309T100000
END:DAYLIGHT
BEGIN:STANDARD
TZOFFSETFROM:-0700
TZOFFSETTO:-0800
TZNAME:PST
DTSTART:20251102T090000
END:STANDARD
BEGIN:DAYLIGHT
TZOFFSETFROM:-0800
TZOFFSETTO:-0700
TZNAME:PDT
DTSTART:20260308T100000
END:DAYLIGHT
BEGIN:STANDARD
TZOFFSETFROM:-0700
TZOFFSETTO:-0800
TZNAME:PST
DTSTART:20261101T090000
END:STANDARD
BEGIN:DAYLIGHT
TZOFFSETFROM:-0800
TZOFFSETTO:-0700
TZNAME:PDT
DTSTART:20270314T100000
END:DAYLIGHT
BEGIN:STANDARD
TZOFFSETFROM:-0700
TZOFFSETTO:-0800
TZNAME:PST
DTSTART:20271107T090000
END:STANDARD
END:VTIMEZONE
BEGIN:VEVENT
DTSTART;TZID=America/Los_Angeles:20260626T110000
DTEND;TZID=America/Los_Angeles:20260626T160000
DTSTAMP:20260419T061441
CREATED:20260203T170142Z
LAST-MODIFIED:20260203T170142Z
UID:10000965-1782471600-1782489600@amadorwine.com
SUMMARY:Live Music Friday at Rombauer Vineyards
DESCRIPTION:Kick off summer with the Jason Weeks Duo under sunny skies! Blue Stone Pizza brings artisan pies crafted to pair perfectly with our wines—each bite and sip a match made in heaven. Discover unique local vendors while soaking up the sun. Summer Fridays start here in Plymouth!
URL:https://amadorwine.com/event/live-music-friday-at-rombauer-vineyards-5/
LOCATION:Rombauer Vineyards\, 12225 Steiner Rd.\, Plymouth\, CA\, 95669\, United States
CATEGORIES:Food Pairing,Food Truck,Live Music,Vendors
ATTACH;FMTTYPE=image/jpeg:https://amadorwine.com/wp-content/uploads/2026/01/PizzaLMFZin-4137bac7432ebed3e44868887c154c47.jpg
END:VEVENT
BEGIN:VEVENT
DTSTART;TZID=America/Los_Angeles:20260715T110000
DTEND;TZID=America/Los_Angeles:20260715T140000
DTSTAMP:20260419T061441
CREATED:20260203T171150Z
LAST-MODIFIED:20260203T171150Z
UID:10000966-1784113200-1784124000@amadorwine.com
SUMMARY:Rombauer Vineyards Wine Wednesday - Wine & Caviar Class
DESCRIPTION:This class will guide you through the nuanced world of caviar\, teaching you how to distinguish flavors\, textures\, and origins\, and\, more importantly\, how to pair it flawlessly with wine. Following the masterclass\, the indulgence continues! Enjoy a specially prepared\, elegant lunch to complement the flavors discovered during the class.
URL:https://amadorwine.com/event/rombauer-vineyards-wine-wednesday-wine-caviar-class/
LOCATION:Rombauer Vineyards\, 12225 Steiner Rd.\, Plymouth\, CA\, 95669\, United States
CATEGORIES:Food Pairing,Wine Education
ATTACH;FMTTYPE=image/jpeg:https://amadorwine.com/wp-content/uploads/2026/01/CaviarWW25-117957e71832233b37d694a7e0859e13.jpg
END:VEVENT
BEGIN:VEVENT
DTSTART;TZID=America/Los_Angeles:20260724T110000
DTEND;TZID=America/Los_Angeles:20260724T160000
DTSTAMP:20260419T061441
CREATED:20260203T172634Z
LAST-MODIFIED:20260203T172634Z
UID:10000967-1784890800-1784908800@amadorwine.com
SUMMARY:Live Music Friday at Rombauer Vineyards
DESCRIPTION:Celebrate summer in full swing with the Michelle Lambert Duo! Enjoy delicious bites from our featured food truck\, perfectly paired with your favorite Rombauer wines. Browse unique local vendors and soak up the sunshine.
URL:https://amadorwine.com/event/live-music-friday-at-rombauer-vineyards-6/
LOCATION:Rombauer Vineyards\, 12225 Steiner Rd.\, Plymouth\, CA\, 95669\, United States
CATEGORIES:Food Pairing,Food Truck,Live Music,Vendors
ATTACH;FMTTYPE=image/jpeg:https://amadorwine.com/wp-content/uploads/2026/01/LMFLounge-73783f64af586aaccb224223ed83fca4.jpg
END:VEVENT
BEGIN:VEVENT
DTSTART;TZID=America/Los_Angeles:20260925T110000
DTEND;TZID=America/Los_Angeles:20260925T160000
DTSTAMP:20260419T061441
CREATED:20260203T173317Z
LAST-MODIFIED:20260203T173317Z
UID:10000968-1790334000-1790352000@amadorwine.com
SUMMARY:Live Music Friday at Rombauer Vineyards
DESCRIPTION:Welcome the changing season with the indie-folk sounds of The Imposters band. Enjoy delicious bites from our featured food truck paired with your favorite Rombauer wines. Explore unique local vendors as you ease into fall in the Foothills.
URL:https://amadorwine.com/event/live-music-friday-at-rombauer-vineyards-7/
LOCATION:Rombauer Vineyards\, 12225 Steiner Rd.\, Plymouth\, CA\, 95669\, United States
CATEGORIES:Food Pairing,Live Music,Vendors
ATTACH;FMTTYPE=image/jpeg:https://amadorwine.com/wp-content/uploads/2026/01/LMFPour-e37c9a3bcdde5cb4f648953549916b88.jpg
END:VEVENT
BEGIN:VEVENT
DTSTART;TZID=America/Los_Angeles:20261014T110000
DTEND;TZID=America/Los_Angeles:20261014T140000
DTSTAMP:20260419T061441
CREATED:20260203T174021Z
LAST-MODIFIED:20260203T174021Z
UID:10000969-1791975600-1791986400@amadorwine.com
SUMMARY:Rombauer Vineyards Wine Wednesday - Fall Cooking Class
DESCRIPTION:Embrace the delicious bounty of the season with our special Cooking Demonstration! Chef will guide you through a complete\, seasonally-focused demonstration\, highlighting key cooking methods and showing you how to maximize flavor with fresh\, seasonal produce. After the demonstration\, enjoy a delicious meal alongside your favorite Rombauer wines.
URL:https://amadorwine.com/event/rombauer-vineyards-wine-wednesday-fall-cooking-class/
LOCATION:Rombauer Vineyards\, 12225 Steiner Rd.\, Plymouth\, CA\, 95669\, United States
CATEGORIES:Food Pairing,Wine Education
ATTACH;FMTTYPE=image/jpeg:https://amadorwine.com/wp-content/uploads/2026/01/FallCooking-9f9cda245537b033c185649162bcdf17.jpg
END:VEVENT
BEGIN:VEVENT
DTSTART;TZID=America/Los_Angeles:20261017T110000
DTEND;TZID=America/Los_Angeles:20261017T150000
DTSTAMP:20260419T061441
CREATED:20260203T174646Z
LAST-MODIFIED:20260203T174646Z
UID:10000970-1792234800-1792249200@amadorwine.com
SUMMARY:Rombauer Harvest Celebration
DESCRIPTION:One of our favorite parties of the year! \nThis is the marquee event of the Sierra Foothills! Celebrate the end of Harvest with a day of delicious food and your favorite wines as you enjoy tunes from an epic live band that will keep you spinning\, shimmying\, and smiling all afternoon. You don’t want to miss this event! More details to come.
URL:https://amadorwine.com/event/rombauer-harvest-celebration/
LOCATION:Rombauer Vineyards\, 12225 Steiner Rd.\, Plymouth\, CA\, 95669\, United States
CATEGORIES:Dancing,Food Pairing,Live Music,Vendors
ATTACH;FMTTYPE=image/jpeg:https://amadorwine.com/wp-content/uploads/2026/01/HarvestParty2025-99d0af12f5b05a4a0d0d93341db7827d.jpg
END:VEVENT
BEGIN:VEVENT
DTSTART;TZID=America/Los_Angeles:20261030T110000
DTEND;TZID=America/Los_Angeles:20261030T160000
DTSTAMP:20260419T061441
CREATED:20260203T175325Z
LAST-MODIFIED:20260203T175325Z
UID:10000971-1793358000-1793376000@amadorwine.com
SUMMARY:Live Music Friday at Rombauer Vineyards
DESCRIPTION:Celebrate harvest season with the soulful tunes of CJ Washington! Indulge in Armando’s Tacos—a perfect match for our bold Zinfandel—while experiencing the energy of Harvest all around you. Browse unique local vendors and experience the magic of fall in the Foothills.
URL:https://amadorwine.com/event/live-music-friday-at-rombauer-vineyards-8/
LOCATION:Rombauer Vineyards\, 12225 Steiner Rd.\, Plymouth\, CA\, 95669\, United States
CATEGORIES:Food Pairing,Food Truck,Live Music,Vendors
ATTACH;FMTTYPE=image/jpeg:https://amadorwine.com/wp-content/uploads/2026/01/LMFOctober-42caaed99c6d7e76f77a008d1a9adb57.jpg
END:VEVENT
BEGIN:VEVENT
DTSTART;TZID=America/Los_Angeles:20261118T110000
DTEND;TZID=America/Los_Angeles:20261118T140000
DTSTAMP:20260419T061441
CREATED:20260203T175734Z
LAST-MODIFIED:20260203T175734Z
UID:10000972-1794999600-1795010400@amadorwine.com
SUMMARY:Rombauer Vineyards Wine Wednesday - Barrel Stave Painting
DESCRIPTION:Unleash your inner artist with a creative and relaxing Barrel Stave Painting Class\, where you’ll transform a piece of winery history into a personal masterpiece. You will be guided through the painting process by a local artist. Whether you’re a seasoned painter or picking up a brush for the first time\, you’ll learn techniques to create a beautiful\, rustic piece of décor.
URL:https://amadorwine.com/event/rombauer-vineyards-wine-wednesday-barrel-stave-painting/
LOCATION:Rombauer Vineyards\, 12225 Steiner Rd.\, Plymouth\, CA\, 95669\, United States
CATEGORIES:Craft Class,Food Pairing
ATTACH;FMTTYPE=image/jpeg:https://amadorwine.com/wp-content/uploads/2026/01/BarrelStave-6d32e978a45d2cca8d1c94ed2200dfd8.jpg
END:VEVENT
BEGIN:VEVENT
DTSTART;TZID=America/Los_Angeles:20261120T110000
DTEND;TZID=America/Los_Angeles:20261120T160000
DTSTAMP:20260419T061441
CREATED:20260203T180238Z
LAST-MODIFIED:20260203T180238Z
UID:10000973-1795172400-1795190400@amadorwine.com
SUMMARY:Live Music Friday at Rombauer Vineyards
DESCRIPTION:With fun live music and delicious food trucks\, we’re kicking the weekend off early in Plymouth. Call your friends and join us! \nCJ Washington returns for a cozy November afternoon! Enjoy delicious bites from our featured food truck paired with your favorite Rombauer wines\, and browse unique local vendors.
URL:https://amadorwine.com/event/live-music-friday-at-rombauer-vineyards-9/
LOCATION:Rombauer Vineyards\, 12225 Steiner Rd.\, Plymouth\, CA\, 95669\, United States
CATEGORIES:Food Pairing,Food Truck,Live Music,Vendors
ATTACH;FMTTYPE=image/jpeg:https://amadorwine.com/wp-content/uploads/2026/01/LMFNov-87a156c91309f759a497c33c33cd8dee.jpg
END:VEVENT
BEGIN:VEVENT
DTSTART;TZID=America/Los_Angeles:20261216T110000
DTEND;TZID=America/Los_Angeles:20261216T140000
DTSTAMP:20260419T061441
CREATED:20260203T180618Z
LAST-MODIFIED:20260203T180618Z
UID:10000974-1797418800-1797429600@amadorwine.com
SUMMARY:Rombauer Vineyards Wine Wednesday - Wreath Making
DESCRIPTION:Join us for a fun\, hands-on wreath-making class at Rombauer Sierra Foothills. You will learn how to create a beautiful green wreath that you can take home and enjoy this holiday season. Lunch and Rombauer wines will be served as well! \nWednesday\, December 16th\nRombauer Vineyards\, Sierra Foothills
URL:https://amadorwine.com/event/rombauer-vineyards-wine-wednesday-wreath-making-2/
LOCATION:Rombauer Vineyards\, 12225 Steiner Rd.\, Plymouth\, CA\, 95669\, United States
CATEGORIES:Craft Class,Food Pairing
ATTACH;FMTTYPE=image/jpeg:https://amadorwine.com/wp-content/uploads/2026/01/WreathMaking-f53510b77e777b46798839a81ea31e27.jpg
END:VEVENT
BEGIN:VEVENT
DTSTART;TZID=America/Los_Angeles:20261218T110000
DTEND;TZID=America/Los_Angeles:20261218T160000
DTSTAMP:20260419T061441
CREATED:20260203T181120Z
LAST-MODIFIED:20260203T181120Z
UID:10000975-1797591600-1797609600@amadorwine.com
SUMMARY:Live Music Friday at Rombauer Vineyards
DESCRIPTION:Close out the year with the Jason Weeks Duo\, bringing festive cheer to the vineyard! Enjoy tunes from this delightful duo and delicious bites from our featured food truck as you sip on your favorite Rombauer wines. Browse unique local vendors and celebrate the holiday season with us!
URL:https://amadorwine.com/event/live-music-friday-at-rombauer-vineyards-10/
LOCATION:Rombauer Vineyards\, 12225 Steiner Rd.\, Plymouth\, CA\, 95669\, United States
CATEGORIES:Food Pairing,Food Truck,Live Music,Vendors
ATTACH;FMTTYPE=image/jpeg:https://amadorwine.com/wp-content/uploads/2026/01/JasonWeeks2LMF-21f0900b1972109f7735a799fc051a00.jpg
END:VEVENT
END:VCALENDAR